BEGIN:VCALENDAR
VERSION:2.0
PRODID:-//thejewishfed.org//NONSGML kigkonsult.se iCalcreator 2.30.10//
CALSCALE:GREGORIAN
METHOD:PUBLISH
UID:cce0dc07-2e03-4c4a-9861-43b3b8302006
X-WR-CALDESC:Explore the recent works of photographer Craig Kilgore in an e
 xtensive series centered on a twenty-eight-day open road journey following
  the path of the former U.S. Route 66\, starting in Chicago to Los Angeles
 \, and back again.\n\nThe artist will share the story of this project\, co
 nnecting & contrasting contemporary American life along this decommissione
 d highway with the symbolism and folklore many still hold as their view of
  'The Mother Road.'\n\nExhibit on display through December 19\, Monday-Fri
 day\, from 10-3 PM.
X-WR-RELCALID:87711d9620db24dbbb96e3a890798deb
X-WR-TIMEZONE:America/New_York
BEGIN:VTIMEZONE
TZID:America/New_York
BEGIN:STANDARD
TZNAME:EST
DTSTART:20241103T020000
TZOFFSETFROM:-0400
TZOFFSETTO:-0500
RDATE:20251102T020000
RDATE:20261101T020000
END:STANDARD
BEGIN:DAYLIGHT
TZNAME:EDT
DTSTART:20250309T020000
TZOFFSETFROM:-0500
TZOFFSETTO:-0400
RDATE:20260308T020000
END:DAYLIGHT
END:VTIMEZONE
BEGIN:VEVENT
UID:d30ca7a1-ea4c-405c-a82f-a0e58ece525e
DTSTAMP:20260422T084050Z
DESCRIPTION:Explore the recent works of photographer Craig Kilgore in an ex
 tensive series centered on a twenty-eight-day open road journey following 
 the path of the former U.S. Route 66\, starting in Chicago to Los Angeles\
 , and back again.\n\nThe artist will share the story of this project\, con
 necting & contrasting contemporary American life along this decommissioned
  highway with the symbolism and folklore many still hold as their view of 
 'The Mother Road.'\n\nExhibit on display through December 19\, Monday-Frid
 ay\, from 10-3 PM.
DTSTART;TZID=America/New_York:20250907T130000
DTEND;TZID=America/New_York:20250907T150000
LOCATION:
SUMMARY:American Monomyth: Route 66 Today
END:VEVENT
END:VCALENDAR
